BEGIN:VCALENDAR
VERSION:2.0
PRODID:-//The Small Boat Club - ECPv6.15.16//NONSGML v1.0//EN
CALSCALE:GREGORIAN
METHOD:PUBLISH
X-ORIGINAL-URL:https://smallboatclub.co.uk
X-WR-CALDESC:Events for The Small Boat Club
REFRESH-INTERVAL;VALUE=DURATION:PT1H
X-Robots-Tag:noindex
X-PUBLISHED-TTL:PT1H
BEGIN:VTIMEZONE
TZID:Europe/London
BEGIN:DAYLIGHT
TZOFFSETFROM:+0000
TZOFFSETTO:+0100
TZNAME:BST
DTSTART:20250330T010000
END:DAYLIGHT
BEGIN:STANDARD
TZOFFSETFROM:+0100
TZOFFSETTO:+0000
TZNAME:GMT
DTSTART:20251026T010000
END:STANDARD
BEGIN:DAYLIGHT
TZOFFSETFROM:+0000
TZOFFSETTO:+0100
TZNAME:BST
DTSTART:20260329T010000
END:DAYLIGHT
BEGIN:STANDARD
TZOFFSETFROM:+0100
TZOFFSETTO:+0000
TZNAME:GMT
DTSTART:20261025T010000
END:STANDARD
BEGIN:DAYLIGHT
TZOFFSETFROM:+0000
TZOFFSETTO:+0100
TZNAME:BST
DTSTART:20270328T010000
END:DAYLIGHT
BEGIN:STANDARD
TZOFFSETFROM:+0100
TZOFFSETTO:+0000
TZNAME:GMT
DTSTART:20271031T010000
END:STANDARD
END:VTIMEZONE
BEGIN:VEVENT
DTSTART;VALUE=DATE:20260919
DTEND;VALUE=DATE:20260920
DTSTAMP:20260422T023503
CREATED:20250122T213400Z
LAST-MODIFIED:20260124T145431Z
UID:1757-1789776000-1789862399@smallboatclub.co.uk
SUMMARY:Commodore's Cruise
DESCRIPTION:
URL:https://smallboatclub.co.uk/event/commodores-cruise-4/
LOCATION:Stevens Ait\, Kingston on Thames\, United Kingdom
CATEGORIES:Cruise,Event,Events,Social
END:VEVENT
BEGIN:VEVENT
DTSTART;VALUE=DATE:20261010
DTEND;VALUE=DATE:20261011
DTSTAMP:20260422T023503
CREATED:20250122T214609Z
LAST-MODIFIED:20260124T145527Z
UID:1763-1791590400-1791676799@smallboatclub.co.uk
SUMMARY:Working Party 3 & BBQ
DESCRIPTION:
URL:https://smallboatclub.co.uk/event/working-party-3-bbq/
LOCATION:Stevens Ait\, Kingston on Thames\, United Kingdom
CATEGORIES:Events,Social,Working Party
END:VEVENT
BEGIN:VEVENT
DTSTART;VALUE=DATE:20261017
DTEND;VALUE=DATE:20261018
DTSTAMP:20260422T023503
CREATED:20250122T215026Z
LAST-MODIFIED:20260124T145658Z
UID:1766-1792195200-1792281599@smallboatclub.co.uk
SUMMARY:Working Party 4 & BBQ
DESCRIPTION:
URL:https://smallboatclub.co.uk/event/working-party-4-bbq/
LOCATION:Stevens Ait\, Kingston on Thames\, United Kingdom
CATEGORIES:Events,Social,Working Party
END:VEVENT
END:VCALENDAR